BEGIN:VCALENDAR
VERSION:2.0
PRODID:-//SLING - ECPv6.15.20//NONSGML v1.0//EN
CALSCALE:GREGORIAN
METHOD:PUBLISH
X-WR-CALNAME:SLING
X-ORIGINAL-URL:https://www.sling.at
X-WR-CALDESC:Veranstaltungen für SLING
REFRESH-INTERVAL;VALUE=DURATION:PT1H
X-Robots-Tag:noindex
X-PUBLISHED-TTL:PT1H
BEGIN:VTIMEZONE
TZID:Europe/Vienna
BEGIN:DAYLIGHT
TZOFFSETFROM:+0100
TZOFFSETTO:+0200
TZNAME:CEST
DTSTART:20250330T010000
END:DAYLIGHT
BEGIN:STANDARD
TZOFFSETFROM:+0200
TZOFFSETTO:+0100
TZNAME:CET
DTSTART:20251026T010000
END:STANDARD
BEGIN:DAYLIGHT
TZOFFSETFROM:+0100
TZOFFSETTO:+0200
TZNAME:CEST
DTSTART:20260329T010000
END:DAYLIGHT
BEGIN:STANDARD
TZOFFSETFROM:+0200
TZOFFSETTO:+0100
TZNAME:CET
DTSTART:20261025T010000
END:STANDARD
BEGIN:DAYLIGHT
TZOFFSETFROM:+0100
TZOFFSETTO:+0200
TZNAME:CEST
DTSTART:20270328T010000
END:DAYLIGHT
BEGIN:STANDARD
TZOFFSETFROM:+0200
TZOFFSETTO:+0100
TZNAME:CET
DTSTART:20271031T010000
END:STANDARD
END:VTIMEZONE
BEGIN:VEVENT
DTSTART;TZID=Europe/Vienna:20260516T210000
DTEND;TZID=Europe/Vienna:20260517T040000
DTSTAMP:20260423T032503
CREATED:20250729T221821Z
LAST-MODIFIED:20260420T163443Z
UID:2805-1778965200-1778990400@www.sling.at
SUMMARY:Saturday Night Fuck | Samstag
DESCRIPTION:Saturday Night Fuck\nUnvergessliche Erlebnisse mit den tollsten Männern der Stadt \nJeden Samstag | 21 bis 04 Uhr\nEvery Saturday | 09 pm – 04 am \n \n 
URL:https://www.sling.at/event/saturday-night-fuck-samstag-3/
LOCATION:Sling\, Kettenbrückengasse 4\, Wien\, 1040\, Österreich
ATTACH;FMTTYPE=image/webp:https://www.sling.at/wp-content/uploads/2022/12/saturday-night-fuck_top.webp
ORGANIZER;CN="Sling":MAILTO:mail@sling.at
END:VEVENT
END:VCALENDAR